BEGIN:VCALENDAR
VERSION:2.0
PRODID:DPCALENDAR
CALSCALE:GREGORIAN
BEGIN:VTIMEZONE
TZID:Europe/Berlin
X-MICROSOFT-CDO-TZID:4
BEGIN:STANDARD
DTSTART:20251026T010000
TZOFFSETFROM:+0200
TZOFFSETTO:+0100
TZNAME:CET
END:STANDARD
BEGIN:STANDARD
DTSTART:20261025T010000
TZOFFSETFROM:+0200
TZOFFSETTO:+0100
TZNAME:CET
END:STANDARD
BEGIN:DAYLIGHT
DTSTART:20260329T010000
TZOFFSETFROM:+0100
TZOFFSETTO:+0200
TZNAME:CEST
END:DAYLIGHT
END:VTIMEZONE
X-WR-TIMEZONE:Europe/Berlin
BEGIN:VEVENT
DTSTART;TZID=Europe/Berlin:20250131T140000
DTEND;TZID=Europe/Berlin:20250131T153000
UID:6C688E45-B5F1-433C-9807-31AB8E5B2F5D
SUMMARY:Onlineschulung Auswahl der richtigen Desinfektionsmittel
CREATED:20241014T153558Z
DTSTAMP:20241014T153558Z
URL:https://www.schug-medical-service.de/seminare/onlineschulung-auswahl-der-richtigen-desinfektionsmittel-4
DESCRIPTION:\N\N\NErfahren Sie alles über Desinfektionsmittel – deren Arten, Wirkungsweisen und wie Sie das ideale Produktportfolio zusammenstellen können. In unserer Schulung bieten unsere Experten fundiertes Wissen über die sachgemäße Auswahl und Optimierung der Desinfektionsverfahren.\N\N\N \N\N\N\N\NZielgruppe\N\NHygienebeauftragte in der ambulanten und pflegerischen Versorgung (HBPa)\NMFA\NVerantwortliche im Einkauf\N\N\N\N\N\NInhalte\N\NGesetzliche Grundlagen\NRKI-Empfehlungen\NWirkspektrum bei der Desinfektion\NInhaltsstoffe und Verträglichkeit\NRichtige Flächendesinfektion\NAblauf von Desinfektion und Reinigung\N\N\N\N\N\NErfüllen Sie Anforderungen\N\NInfektionsschutzgesetz (IfSG)\NRKI Richtlinien & Empfehlungen\NEN Normen\NDefinition / Abgrenzungen / Arzneimittel / Medizinprodukt / Biozid\NGefahrstoffverordnung (GefStoffV §14) / TRGS 525\NDesinfektionsmittellistungen RKI / VAH / IHO\N\N\N\N
X-ALT-DESC;FMTTYPE=text/html:<div class="g-grid g-gutter"><div class="g-block size-60"><div class="g-content"><p>Erfahren Sie alles über Desinfektionsmittel – deren Arten, Wirkungsweisen und wie Sie das ideale Produktportfolio zusammenstellen können. In unserer Schulung bieten unsere Experten fundiertes Wissen über die sachgemäße Auswahl und Optimierung der Desinfektionsverfahren.</p></div></div><div class="g-block size-7"> </div></div><div class="g-grid g-gutter"><div class="g-block"><div class="g-content"><p><strong>Zielgruppe</strong></p><ul><li>Hygienebeauftragte in der ambulanten und pflegerischen Versorgung (HBPa)</li><li>MFA</li><li>Verantwortliche im Einkauf</li></ul></div></div><div class="g-block"><div class="g-content"><p><strong>Inhalte</strong></p><ul><li>Gesetzliche Grundlagen</li><li>RKI-Empfehlungen</li><li>Wirkspektrum bei der Desinfektion</li><li>Inhaltsstoffe und Verträglichkeit</li><li>Richtige Flächendesinfektion</li><li>Ablauf von Desinfektion und Reinigung<br><br></li></ul></div></div><div class="g-block"><div class="g-content"><p><strong>Erfüllen Sie Anforderungen</strong></p><ul><li>Infektionsschutzgesetz (IfSG)</li><li>RKI Richtlinien &amp; Empfehlungen</li><li>EN Normen</li><li>Definition / Abgrenzungen / Arzneimittel / Medizinprodukt / Biozid</li><li>Gefahrstoffverordnung (GefStoffV §14) / TRGS 525</li><li>Desinfektionsmittellistungen RKI / VAH / IHO</li></ul></div></div></div>
LAST-MODIFIED:20241016T071931Z
SEQUENCE:143013
X-ACCESS:1
X-HITS:193
X-COLOR:61bf1f
X-SHOW-END-TIME:1
END:VEVENT
BEGIN:VEVENT
DTSTART;TZID=Europe/Berlin:20250425T140000
DTEND;TZID=Europe/Berlin:20250425T153000
UID:C1674218-D4C8-458F-A149-9882926CA7A3
SUMMARY:Onlineschulung Auswahl der richtigen Desinfektionsmittel
CREATED:20250124T123558Z
DTSTAMP:20250124T123558Z
URL:https://www.schug-medical-service.de/seminare/onlineschulung-auswahl-der-richtigen-desinfektionsmittel-5
DESCRIPTION:\N\N\NErfahren Sie alles über Desinfektionsmittel – deren Arten, Wirkungsweisen und wie Sie das ideale Produktportfolio zusammenstellen können. In unserer Schulung bieten unsere Experten fundiertes Wissen über die sachgemäße Auswahl und Optimierung der Desinfektionsverfahren.\N\N\N \N\N\N\N\NZielgruppe\N\NHygienebeauftragte in der ambulanten und pflegerischen Versorgung (HBPa)\NMFA\NVerantwortliche im Einkauf\N\N\N\N\N\NInhalte\N\NGesetzliche Grundlagen\NRKI-Empfehlungen\NWirkspektrum bei der Desinfektion\NInhaltsstoffe und Verträglichkeit\NRichtige Flächendesinfektion\NAblauf von Desinfektion und Reinigung\N\N\N\N\N\NErfüllen Sie Anforderungen\N\NInfektionsschutzgesetz (IfSG)\NRKI Richtlinien & Empfehlungen\NEN Normen\NDefinition / Abgrenzungen / Arzneimittel / Medizinprodukt / Biozid\NGefahrstoffverordnung (GefStoffV §14) / TRGS 525\NDesinfektionsmittellistungen RKI / VAH / IHO\N\N\N\N
X-ALT-DESC;FMTTYPE=text/html:<div class="g-grid g-gutter"><div class="g-block size-60"><div class="g-content"><p>Erfahren Sie alles über Desinfektionsmittel – deren Arten, Wirkungsweisen und wie Sie das ideale Produktportfolio zusammenstellen können. In unserer Schulung bieten unsere Experten fundiertes Wissen über die sachgemäße Auswahl und Optimierung der Desinfektionsverfahren.</p></div></div><div class="g-block size-7"> </div></div><div class="g-grid g-gutter"><div class="g-block"><div class="g-content"><p><strong>Zielgruppe</strong></p><ul><li>Hygienebeauftragte in der ambulanten und pflegerischen Versorgung (HBPa)</li><li>MFA</li><li>Verantwortliche im Einkauf</li></ul></div></div><div class="g-block"><div class="g-content"><p><strong>Inhalte</strong></p><ul><li>Gesetzliche Grundlagen</li><li>RKI-Empfehlungen</li><li>Wirkspektrum bei der Desinfektion</li><li>Inhaltsstoffe und Verträglichkeit</li><li>Richtige Flächendesinfektion</li><li>Ablauf von Desinfektion und Reinigung<br><br></li></ul></div></div><div class="g-block"><div class="g-content"><p><strong>Erfüllen Sie Anforderungen</strong></p><ul><li>Infektionsschutzgesetz (IfSG)</li><li>RKI Richtlinien &amp; Empfehlungen</li><li>EN Normen</li><li>Definition / Abgrenzungen / Arzneimittel / Medizinprodukt / Biozid</li><li>Gefahrstoffverordnung (GefStoffV §14) / TRGS 525</li><li>Desinfektionsmittellistungen RKI / VAH / IHO</li></ul></div></div></div>
LAST-MODIFIED:20250124T125540Z
SEQUENCE:1182
X-ACCESS:1
X-HITS:164
X-COLOR:61bf1f
X-SHOW-END-TIME:1
END:VEVENT
END:VCALENDAR