BEGIN:VCALENDAR
VERSION:2.0
PRODID:DPCALENDAR
CALSCALE:GREGORIAN
BEGIN:VTIMEZONE
TZID:Europe/Berlin
X-MICROSOFT-CDO-TZID:4
BEGIN:STANDARD
DTSTART:20251026T010000
TZOFFSETFROM:+0200
TZOFFSETTO:+0100
TZNAME:CET
END:STANDARD
BEGIN:STANDARD
DTSTART:20261025T010000
TZOFFSETFROM:+0200
TZOFFSETTO:+0100
TZNAME:CET
END:STANDARD
BEGIN:DAYLIGHT
DTSTART:20260329T010000
TZOFFSETFROM:+0100
TZOFFSETTO:+0200
TZNAME:CEST
END:DAYLIGHT
END:VTIMEZONE
X-WR-TIMEZONE:Europe/Berlin
BEGIN:VEVENT
DTSTART;TZID=Europe/Berlin:20250509T140000
DTEND;TZID=Europe/Berlin:20250509T150000
UID:63A44B02-47CA-4307-9E3B-E094779C214F
SUMMARY:Onlineschulung Hygieneschulung 1 Stunden Power Schulung
CREATED:20250211T112916Z
DTSTAMP:20250211T112916Z
URL:https://www.schug-medical-service.de/seminare/onlineschulung-hygieneschulung-fuer-alle-medizinischen-fachbereiche-26
LAST-MODIFIED:20250211T133432Z
SEQUENCE:7516
X-ACCESS:1
X-HITS:250
X-COLOR:61bf1f
X-IMAGE-FULL:https://www.schug-medical-service.de/images/content/onlineschulung-modul-1.jpg
X-IMAGE-INTRO:https://www.schug-medical-service.de/images/content/onlineschulung-modul-1.jpg
X-SHOW-END-TIME:1
END:VEVENT
END:VCALENDAR