BEGIN:VCALENDAR
VERSION:2.0
PRODID:DPCALENDAR
CALSCALE:GREGORIAN
BEGIN:VTIMEZONE
TZID:Europe/Berlin
X-MICROSOFT-CDO-TZID:4
BEGIN:STANDARD
DTSTART:20251026T010000
TZOFFSETFROM:+0200
TZOFFSETTO:+0100
TZNAME:CET
END:STANDARD
BEGIN:STANDARD
DTSTART:20261025T010000
TZOFFSETFROM:+0200
TZOFFSETTO:+0100
TZNAME:CET
END:STANDARD
BEGIN:DAYLIGHT
DTSTART:20260329T010000
TZOFFSETFROM:+0100
TZOFFSETTO:+0200
TZNAME:CEST
END:DAYLIGHT
END:VTIMEZONE
X-WR-TIMEZONE:Europe/Berlin
BEGIN:VEVENT
DTSTART;TZID=Europe/Berlin:20240503T140000
DTEND;TZID=Europe/Berlin:20240503T160000
UID:3291F298-C6FF-456A-9D97-046C374A3B92
SUMMARY:Onlineschulung Hygiene "Fachgebiet ambulantes Operieren"
CREATED:20240402T142916Z
DTSTAMP:20240402T142916Z
URL:https://www.schug-medical-service.de/seminare/onlineschulung-hygieneschulung-ambulantes-operieren-2
DESCRIPTION:In dieser Hygiene-Fortbildung wird neben den Maßnahmen der Basishygiene speziell auf die besonderen Belange der ambulant operierenden medizinischen Einrichtungen eingegangen, insbesondere auf die Dokumentationspflichten nach IfSG § 23 und den länderspezifischen MedHygV. Ein weiterer Schwerpunkt stellt die MP-Aufbereitung dar. Unsere praxisnahen Referenten-/ innen geben Ihnen praktische Tipps zur Umsetzung der erforderlichen Hygienevorgaben im Praxisalltag.\NZielgruppe• Medizinische Fachangestellte (MFA)• Operationstechnischen Assistent*innen (OTA)• Hygienebeauftragte MFA• Qualitätsmanagement Beauftragte\NInhalte• Definitionen• Rechtliche Grundlagen IfSG / MPDG / MPBetreibV /TRBA 250 / TRGS 525 / DGKH-Leitlinie: „Bauliche und funktionelle Anforderungen an Eingriffsräume“• Aufbereitung kritischer Medizinprodukte, maschinelle Aufbereitung• Aufbereitung mit validierten Verfahren• Dokumentationspflichten Ambulantes Operieren IfSG § 23• Flächendesinfektion• Haut- & Händehygiene• Abfallentsorgung• Verschiedenes\NErfüllen Sie Anforderungen• Infektionsschutzgesetz (IfSG)• MPDG und MPBetreibV• RKI-Richtlinien & Empfehlungen• Gefahrstoffverordnung (GefStoffV §14)• Biologische Arbeitsstoffe nach Biostoffverordnung (BioStoffV §12, §14)• Länder-Hygieneverordnung (MedHygV)• Grundsätze der Prävention DGUV Vorschrift 1 §4
X-ALT-DESC;FMTTYPE=text/html:<p>In dieser Hygiene-Fortbildung wird neben den Maßnahmen der Basishygiene speziell auf die besonderen Belange der ambulant operierenden medizinischen Einrichtungen eingegangen, insbesondere auf die Dokumentationspflichten nach IfSG § 23 und den länderspezifischen MedHygV. Ein weiterer Schwerpunkt stellt die MP-Aufbereitung dar. Unsere praxisnahen Referenten-/ innen geben Ihnen praktische Tipps zur Umsetzung der erforderlichen Hygienevorgaben im Praxisalltag.</p><p>Zielgruppe<br>• Medizinische Fachangestellte (MFA)<br>• Operationstechnischen Assistent*innen (OTA)<br>• Hygienebeauftragte MFA<br>• Qualitätsmanagement Beauftragte</p><p>Inhalte<br>• Definitionen<br>• Rechtliche Grundlagen IfSG / MPDG / MPBetreibV /TRBA 250 / TRGS 525 / DGKH-Leitlinie: „Bauliche und funktionelle Anforderungen an Eingriffsräume“<br>• Aufbereitung kritischer Medizinprodukte, maschinelle Aufbereitung<br>• Aufbereitung mit validierten Verfahren<br>• Dokumentationspflichten Ambulantes Operieren IfSG § 23<br>• Flächendesinfektion<br>• Haut- &amp; Händehygiene<br>• Abfallentsorgung<br>• Verschiedenes</p><p>Erfüllen Sie Anforderungen<br>• Infektionsschutzgesetz (IfSG)<br>• MPDG und MPBetreibV<br>• RKI-Richtlinien &amp; Empfehlungen<br>• Gefahrstoffverordnung (GefStoffV §14)<br>• Biologische Arbeitsstoffe nach Biostoffverordnung (BioStoffV §12, §14)<br>• Länder-Hygieneverordnung (MedHygV)<br>• Grundsätze der Prävention DGUV Vorschrift 1 §4</p>
LAST-MODIFIED:20240404T141651Z
SEQUENCE:172055
X-ACCESS:1
X-HITS:18
X-COLOR:61bf1f
X-IMAGE-FULL:https://www.schug-medical-service.de/images/content/onlineschulung-modul-1.jpg
X-IMAGE-INTRO:https://www.schug-medical-service.de/images/content/onlineschulung-modul-1.jpg
X-SHOW-END-TIME:1
END:VEVENT
BEGIN:VEVENT
DTSTART;TZID=Europe/Berlin:20250124T140000
DTEND;TZID=Europe/Berlin:20250124T160000
UID:73E6B2CC-F5AB-4D45-B2AC-480FCAB9127E
SUMMARY:Onlineschulung Hygiene "Fachgebiet ambulantes Operieren"
CREATED:20241014T154849Z
DTSTAMP:20241014T154849Z
URL:https://www.schug-medical-service.de/seminare/onlineschulung-hygiene-fachgebiet-ambulantes-operieren
DESCRIPTION:In dieser Hygiene-Fortbildung wird neben den Maßnahmen der Basishygiene speziell auf die besonderen Belange der ambulant operierenden medizinischen Einrichtungen eingegangen, insbesondere auf die Dokumentationspflichten nach IfSG § 23 und den länderspezifischen MedHygV. Ein weiterer Schwerpunkt stellt die MP-Aufbereitung dar. Unsere praxisnahen Referenten-/ innen geben Ihnen praktische Tipps zur Umsetzung der erforderlichen Hygienevorgaben im Praxisalltag.\NZielgruppe• Medizinische Fachangestellte (MFA)• Operationstechnischen Assistent*innen (OTA)• Hygienebeauftragte MFA• Qualitätsmanagement Beauftragte\NInhalte• Definitionen• Rechtliche Grundlagen IfSG / MPDG / MPBetreibV /TRBA 250 / TRGS 525 / DGKH-Leitlinie: „Bauliche und funktionelle Anforderungen an Eingriffsräume“• Aufbereitung kritischer Medizinprodukte, maschinelle Aufbereitung• Aufbereitung mit validierten Verfahren• Dokumentationspflichten Ambulantes Operieren IfSG § 23• Flächendesinfektion• Haut- & Händehygiene• Abfallentsorgung• Verschiedenes\NErfüllen Sie Anforderungen• Infektionsschutzgesetz (IfSG)• MPDG und MPBetreibV• RKI-Richtlinien & Empfehlungen• Gefahrstoffverordnung (GefStoffV §14)• Biologische Arbeitsstoffe nach Biostoffverordnung (BioStoffV §12, §14)• Länder-Hygieneverordnung (MedHygV)• Grundsätze der Prävention DGUV Vorschrift 1 §4
X-ALT-DESC;FMTTYPE=text/html:<p>In dieser Hygiene-Fortbildung wird neben den Maßnahmen der Basishygiene speziell auf die besonderen Belange der ambulant operierenden medizinischen Einrichtungen eingegangen, insbesondere auf die Dokumentationspflichten nach IfSG § 23 und den länderspezifischen MedHygV. Ein weiterer Schwerpunkt stellt die MP-Aufbereitung dar. Unsere praxisnahen Referenten-/ innen geben Ihnen praktische Tipps zur Umsetzung der erforderlichen Hygienevorgaben im Praxisalltag.</p><p>Zielgruppe<br>• Medizinische Fachangestellte (MFA)<br>• Operationstechnischen Assistent*innen (OTA)<br>• Hygienebeauftragte MFA<br>• Qualitätsmanagement Beauftragte</p><p>Inhalte<br>• Definitionen<br>• Rechtliche Grundlagen IfSG / MPDG / MPBetreibV /TRBA 250 / TRGS 525 / DGKH-Leitlinie: „Bauliche und funktionelle Anforderungen an Eingriffsräume“<br>• Aufbereitung kritischer Medizinprodukte, maschinelle Aufbereitung<br>• Aufbereitung mit validierten Verfahren<br>• Dokumentationspflichten Ambulantes Operieren IfSG § 23<br>• Flächendesinfektion<br>• Haut- &amp; Händehygiene<br>• Abfallentsorgung<br>• Verschiedenes</p><p>Erfüllen Sie Anforderungen<br>• Infektionsschutzgesetz (IfSG)<br>• MPDG und MPBetreibV<br>• RKI-Richtlinien &amp; Empfehlungen<br>• Gefahrstoffverordnung (GefStoffV §14)<br>• Biologische Arbeitsstoffe nach Biostoffverordnung (BioStoffV §12, §14)<br>• Länder-Hygieneverordnung (MedHygV)<br>• Grundsätze der Prävention DGUV Vorschrift 1 §4</p>
LAST-MODIFIED:20241119T102326Z
SEQUENCE:3090877
X-ACCESS:1
X-HITS:336
X-COLOR:61bf1f
X-SHOW-END-TIME:1
END:VEVENT
BEGIN:VEVENT
DTSTART;TZID=Europe/Berlin:20250404T140000
DTEND;TZID=Europe/Berlin:20250404T160000
UID:941E4899-3429-4B2C-AF9E-2519E8DCEBB1
SUMMARY:Onlineschulung Hygiene "Fachgebiet ambulantes Operieren"
CREATED:20250124T114849Z
DTSTAMP:20250124T114849Z
URL:https://www.schug-medical-service.de/seminare/onlineschulung-hygiene-fachgebiet-ambulantes-operieren-2
DESCRIPTION:In dieser Hygiene-Fortbildung wird neben den Maßnahmen der Basishygiene speziell auf die besonderen Belange der ambulant operierenden medizinischen Einrichtungen eingegangen, insbesondere auf die Dokumentationspflichten nach IfSG § 23 und den länderspezifischen MedHygV. Ein weiterer Schwerpunkt stellt die MP-Aufbereitung dar. Unsere praxisnahen Referenten-/ innen geben Ihnen praktische Tipps zur Umsetzung der erforderlichen Hygienevorgaben im Praxisalltag.\NZielgruppe• Medizinische Fachangestellte (MFA)• Operationstechnischen Assistent*innen (OTA)• Hygienebeauftragte MFA• Qualitätsmanagement Beauftragte\NInhalte• Definitionen• Rechtliche Grundlagen IfSG / MPDG / MPBetreibV /TRBA 250 / TRGS 525 / DGKH-Leitlinie: „Bauliche und funktionelle Anforderungen an Eingriffsräume“• Aufbereitung kritischer Medizinprodukte, maschinelle Aufbereitung• Aufbereitung mit validierten Verfahren• Dokumentationspflichten Ambulantes Operieren IfSG § 23• Flächendesinfektion• Haut- & Händehygiene• Abfallentsorgung• Verschiedenes\NErfüllen Sie Anforderungen• Infektionsschutzgesetz (IfSG)• MPDG und MPBetreibV• RKI-Richtlinien & Empfehlungen• Gefahrstoffverordnung (GefStoffV §14)• Biologische Arbeitsstoffe nach Biostoffverordnung (BioStoffV §12, §14)• Länder-Hygieneverordnung (MedHygV)• Grundsätze der Prävention DGUV Vorschrift 1 §4
X-ALT-DESC;FMTTYPE=text/html:<p>In dieser Hygiene-Fortbildung wird neben den Maßnahmen der Basishygiene speziell auf die besonderen Belange der ambulant operierenden medizinischen Einrichtungen eingegangen, insbesondere auf die Dokumentationspflichten nach IfSG § 23 und den länderspezifischen MedHygV. Ein weiterer Schwerpunkt stellt die MP-Aufbereitung dar. Unsere praxisnahen Referenten-/ innen geben Ihnen praktische Tipps zur Umsetzung der erforderlichen Hygienevorgaben im Praxisalltag.</p><p>Zielgruppe<br>• Medizinische Fachangestellte (MFA)<br>• Operationstechnischen Assistent*innen (OTA)<br>• Hygienebeauftragte MFA<br>• Qualitätsmanagement Beauftragte</p><p>Inhalte<br>• Definitionen<br>• Rechtliche Grundlagen IfSG / MPDG / MPBetreibV /TRBA 250 / TRGS 525 / DGKH-Leitlinie: „Bauliche und funktionelle Anforderungen an Eingriffsräume“<br>• Aufbereitung kritischer Medizinprodukte, maschinelle Aufbereitung<br>• Aufbereitung mit validierten Verfahren<br>• Dokumentationspflichten Ambulantes Operieren IfSG § 23<br>• Flächendesinfektion<br>• Haut- &amp; Händehygiene<br>• Abfallentsorgung<br>• Verschiedenes</p><p>Erfüllen Sie Anforderungen<br>• Infektionsschutzgesetz (IfSG)<br>• MPDG und MPBetreibV<br>• RKI-Richtlinien &amp; Empfehlungen<br>• Gefahrstoffverordnung (GefStoffV §14)<br>• Biologische Arbeitsstoffe nach Biostoffverordnung (BioStoffV §12, §14)<br>• Länder-Hygieneverordnung (MedHygV)<br>• Grundsätze der Prävention DGUV Vorschrift 1 §4</p>
LAST-MODIFIED:20250124T124406Z
SEQUENCE:3317
X-ACCESS:1
X-HITS:290
X-COLOR:61bf1f
X-SHOW-END-TIME:1
END:VEVENT
BEGIN:VEVENT
DTSTART;TZID=Europe/Berlin:20250718T140000
DTEND;TZID=Europe/Berlin:20250718T160000
UID:FD754E76-BE80-4155-8449-6F63E1DA002C
SUMMARY:Onlineschulung Hygiene "Fachgebiet ambulantes Operieren"
CREATED:20250312T114849Z
DTSTAMP:20250312T114849Z
URL:https://www.schug-medical-service.de/seminare/onlineschulung-hygiene-fachgebiet-ambulantes-operieren-4
DESCRIPTION:In dieser Hygiene-Fortbildung wird neben den Maßnahmen der Basishygiene speziell auf die besonderen Belange der ambulant operierenden medizinischen Einrichtungen eingegangen, insbesondere auf die Dokumentationspflichten nach IfSG § 23 und den länderspezifischen MedHygV. Ein weiterer Schwerpunkt stellt die MP-Aufbereitung dar. Unsere praxisnahen Referenten-/ innen geben Ihnen praktische Tipps zur Umsetzung der erforderlichen Hygienevorgaben im Praxisalltag.\NZielgruppe• Medizinische Fachangestellte (MFA)• Operationstechnischen Assistent*innen (OTA)• Hygienebeauftragte MFA• Qualitätsmanagement Beauftragte\NInhalte• Definitionen• Rechtliche Grundlagen IfSG / MPDG / MPBetreibV /TRBA 250 / TRGS 525 / DGKH-Leitlinie: „Bauliche und funktionelle Anforderungen an Eingriffsräume“• Aufbereitung kritischer Medizinprodukte, maschinelle Aufbereitung• Aufbereitung mit validierten Verfahren• Dokumentationspflichten Ambulantes Operieren IfSG § 23• Flächendesinfektion• Haut- & Händehygiene• Abfallentsorgung• Verschiedenes\NErfüllen Sie Anforderungen• Infektionsschutzgesetz (IfSG)• MPDG und MPBetreibV• RKI-Richtlinien & Empfehlungen• Gefahrstoffverordnung (GefStoffV §14)• Biologische Arbeitsstoffe nach Biostoffverordnung (BioStoffV §12, §14)• Länder-Hygieneverordnung (MedHygV)• Grundsätze der Prävention DGUV Vorschrift 1 §4
X-ALT-DESC;FMTTYPE=text/html:<p>In dieser Hygiene-Fortbildung wird neben den Maßnahmen der Basishygiene speziell auf die besonderen Belange der ambulant operierenden medizinischen Einrichtungen eingegangen, insbesondere auf die Dokumentationspflichten nach IfSG § 23 und den länderspezifischen MedHygV. Ein weiterer Schwerpunkt stellt die MP-Aufbereitung dar. Unsere praxisnahen Referenten-/ innen geben Ihnen praktische Tipps zur Umsetzung der erforderlichen Hygienevorgaben im Praxisalltag.</p><p>Zielgruppe<br>• Medizinische Fachangestellte (MFA)<br>• Operationstechnischen Assistent*innen (OTA)<br>• Hygienebeauftragte MFA<br>• Qualitätsmanagement Beauftragte</p><p>Inhalte<br>• Definitionen<br>• Rechtliche Grundlagen IfSG / MPDG / MPBetreibV /TRBA 250 / TRGS 525 / DGKH-Leitlinie: „Bauliche und funktionelle Anforderungen an Eingriffsräume“<br>• Aufbereitung kritischer Medizinprodukte, maschinelle Aufbereitung<br>• Aufbereitung mit validierten Verfahren<br>• Dokumentationspflichten Ambulantes Operieren IfSG § 23<br>• Flächendesinfektion<br>• Haut- &amp; Händehygiene<br>• Abfallentsorgung<br>• Verschiedenes</p><p>Erfüllen Sie Anforderungen<br>• Infektionsschutzgesetz (IfSG)<br>• MPDG und MPBetreibV<br>• RKI-Richtlinien &amp; Empfehlungen<br>• Gefahrstoffverordnung (GefStoffV §14)<br>• Biologische Arbeitsstoffe nach Biostoffverordnung (BioStoffV §12, §14)<br>• Länder-Hygieneverordnung (MedHygV)<br>• Grundsätze der Prävention DGUV Vorschrift 1 §4</p>
LAST-MODIFIED:20250410T102313Z
SEQUENCE:2500464
X-ACCESS:1
X-HITS:351
X-COLOR:61bf1f
X-SHOW-END-TIME:1
END:VEVENT
BEGIN:VEVENT
DTSTART;TZID=Europe/Berlin:20250829T140000
DTEND;TZID=Europe/Berlin:20250829T160000
UID:4272E54F-A9A2-4958-92A4-A42447E841B7
SUMMARY:Onlineschulung Hygiene "Fachgebiet ambulantes Operieren"
CREATED:20250312T114849Z
DTSTAMP:20250312T114849Z
URL:https://www.schug-medical-service.de/seminare/onlineschulung-hygiene-fachgebiet-ambulantes-operieren-5
DESCRIPTION:In dieser Hygiene-Fortbildung wird neben den Maßnahmen der Basishygiene speziell auf die besonderen Belange der ambulant operierenden medizinischen Einrichtungen eingegangen, insbesondere auf die Dokumentationspflichten nach IfSG § 23 und den länderspezifischen MedHygV. Ein weiterer Schwerpunkt stellt die MP-Aufbereitung dar. Unsere praxisnahen Referenten-/ innen geben Ihnen praktische Tipps zur Umsetzung der erforderlichen Hygienevorgaben im Praxisalltag.\NZielgruppe• Medizinische Fachangestellte (MFA)• Operationstechnischen Assistent*innen (OTA)• Hygienebeauftragte MFA• Qualitätsmanagement Beauftragte\NInhalte• Definitionen• Rechtliche Grundlagen IfSG / MPDG / MPBetreibV /TRBA 250 / TRGS 525 / DGKH-Leitlinie: „Bauliche und funktionelle Anforderungen an Eingriffsräume“• Aufbereitung kritischer Medizinprodukte, maschinelle Aufbereitung• Aufbereitung mit validierten Verfahren• Dokumentationspflichten Ambulantes Operieren IfSG § 23• Flächendesinfektion• Haut- & Händehygiene• Abfallentsorgung• Verschiedenes\NErfüllen Sie Anforderungen• Infektionsschutzgesetz (IfSG)• MPDG und MPBetreibV• RKI-Richtlinien & Empfehlungen• Gefahrstoffverordnung (GefStoffV §14)• Biologische Arbeitsstoffe nach Biostoffverordnung (BioStoffV §12, §14)• Länder-Hygieneverordnung (MedHygV)• Grundsätze der Prävention DGUV Vorschrift 1 §4
X-ALT-DESC;FMTTYPE=text/html:<p>In dieser Hygiene-Fortbildung wird neben den Maßnahmen der Basishygiene speziell auf die besonderen Belange der ambulant operierenden medizinischen Einrichtungen eingegangen, insbesondere auf die Dokumentationspflichten nach IfSG § 23 und den länderspezifischen MedHygV. Ein weiterer Schwerpunkt stellt die MP-Aufbereitung dar. Unsere praxisnahen Referenten-/ innen geben Ihnen praktische Tipps zur Umsetzung der erforderlichen Hygienevorgaben im Praxisalltag.</p><p>Zielgruppe<br>• Medizinische Fachangestellte (MFA)<br>• Operationstechnischen Assistent*innen (OTA)<br>• Hygienebeauftragte MFA<br>• Qualitätsmanagement Beauftragte</p><p>Inhalte<br>• Definitionen<br>• Rechtliche Grundlagen IfSG / MPDG / MPBetreibV /TRBA 250 / TRGS 525 / DGKH-Leitlinie: „Bauliche und funktionelle Anforderungen an Eingriffsräume“<br>• Aufbereitung kritischer Medizinprodukte, maschinelle Aufbereitung<br>• Aufbereitung mit validierten Verfahren<br>• Dokumentationspflichten Ambulantes Operieren IfSG § 23<br>• Flächendesinfektion<br>• Haut- &amp; Händehygiene<br>• Abfallentsorgung<br>• Verschiedenes</p><p>Erfüllen Sie Anforderungen<br>• Infektionsschutzgesetz (IfSG)<br>• MPDG und MPBetreibV<br>• RKI-Richtlinien &amp; Empfehlungen<br>• Gefahrstoffverordnung (GefStoffV §14)<br>• Biologische Arbeitsstoffe nach Biostoffverordnung (BioStoffV §12, §14)<br>• Länder-Hygieneverordnung (MedHygV)<br>• Grundsätze der Prävention DGUV Vorschrift 1 §4</p>
LAST-MODIFIED:20250312T145813Z
SEQUENCE:11364
X-ACCESS:1
X-HITS:301
X-COLOR:61bf1f
X-SHOW-END-TIME:1
END:VEVENT
BEGIN:VEVENT
DTSTART;TZID=Europe/Berlin:20251017T140000
DTEND;TZID=Europe/Berlin:20251017T160000
UID:BBA5CE67-D2EB-4AE8-9024-A10A56376025
SUMMARY:Onlineschulung Hygiene "Fachgebiet ambulantes Operieren"
CREATED:20250410T094849Z
DTSTAMP:20250410T094849Z
URL:https://www.schug-medical-service.de/seminare/onlineschulung-hygiene-fachgebiet-ambulantes-operieren-6
DESCRIPTION:In dieser Hygiene-Fortbildung wird neben den Maßnahmen der Basishygiene speziell auf die besonderen Belange der ambulant operierenden medizinischen Einrichtungen eingegangen, insbesondere auf die Dokumentationspflichten nach IfSG § 23 und den länderspezifischen MedHygV. Ein weiterer Schwerpunkt stellt die MP-Aufbereitung dar. Unsere praxisnahen Referenten-/ innen geben Ihnen praktische Tipps zur Umsetzung der erforderlichen Hygienevorgaben im Praxisalltag.\NZielgruppe• Medizinische Fachangestellte (MFA)• Operationstechnischen Assistent*innen (OTA)• Hygienebeauftragte MFA• Qualitätsmanagement Beauftragte\NInhalte• Definitionen• Rechtliche Grundlagen IfSG / MPDG / MPBetreibV /TRBA 250 / TRGS 525 / DGKH-Leitlinie: „Bauliche und funktionelle Anforderungen an Eingriffsräume“• Aufbereitung kritischer Medizinprodukte, maschinelle Aufbereitung• Aufbereitung mit validierten Verfahren• Dokumentationspflichten Ambulantes Operieren IfSG § 23• Flächendesinfektion• Haut- & Händehygiene• Abfallentsorgung• Verschiedenes\NErfüllen Sie Anforderungen• Infektionsschutzgesetz (IfSG)• MPDG und MPBetreibV• RKI-Richtlinien & Empfehlungen• Gefahrstoffverordnung (GefStoffV §14)• Biologische Arbeitsstoffe nach Biostoffverordnung (BioStoffV §12, §14)• Länder-Hygieneverordnung (MedHygV)• Grundsätze der Prävention DGUV Vorschrift 1 §4
X-ALT-DESC;FMTTYPE=text/html:<p>In dieser Hygiene-Fortbildung wird neben den Maßnahmen der Basishygiene speziell auf die besonderen Belange der ambulant operierenden medizinischen Einrichtungen eingegangen, insbesondere auf die Dokumentationspflichten nach IfSG § 23 und den länderspezifischen MedHygV. Ein weiterer Schwerpunkt stellt die MP-Aufbereitung dar. Unsere praxisnahen Referenten-/ innen geben Ihnen praktische Tipps zur Umsetzung der erforderlichen Hygienevorgaben im Praxisalltag.</p><p>Zielgruppe<br>• Medizinische Fachangestellte (MFA)<br>• Operationstechnischen Assistent*innen (OTA)<br>• Hygienebeauftragte MFA<br>• Qualitätsmanagement Beauftragte</p><p>Inhalte<br>• Definitionen<br>• Rechtliche Grundlagen IfSG / MPDG / MPBetreibV /TRBA 250 / TRGS 525 / DGKH-Leitlinie: „Bauliche und funktionelle Anforderungen an Eingriffsräume“<br>• Aufbereitung kritischer Medizinprodukte, maschinelle Aufbereitung<br>• Aufbereitung mit validierten Verfahren<br>• Dokumentationspflichten Ambulantes Operieren IfSG § 23<br>• Flächendesinfektion<br>• Haut- &amp; Händehygiene<br>• Abfallentsorgung<br>• Verschiedenes</p><p>Erfüllen Sie Anforderungen<br>• Infektionsschutzgesetz (IfSG)<br>• MPDG und MPBetreibV<br>• RKI-Richtlinien &amp; Empfehlungen<br>• Gefahrstoffverordnung (GefStoffV §14)<br>• Biologische Arbeitsstoffe nach Biostoffverordnung (BioStoffV §12, §14)<br>• Länder-Hygieneverordnung (MedHygV)<br>• Grundsätze der Prävention DGUV Vorschrift 1 §4</p>
LAST-MODIFIED:20250410T102257Z
SEQUENCE:2048
X-ACCESS:1
X-HITS:503
X-COLOR:61bf1f
X-SHOW-END-TIME:1
END:VEVENT
BEGIN:VEVENT
DTSTART;TZID=Europe/Berlin:20260218T140000
DTEND;TZID=Europe/Berlin:20260218T160000
UID:D32076B4-450D-4AA0-9D56-495A75D75A03
SUMMARY:Onlineschulung Hygiene "Fachgebiet ambulantes Operieren"
CREATED:20251120T104849Z
DTSTAMP:20251120T104849Z
URL:https://www.schug-medical-service.de/seminare/onlineschulung-hygiene-fachgebiet-ambulantes-operieren-7
DESCRIPTION:In dieser Hygiene-Fortbildung wird neben den Maßnahmen der Basishygiene speziell auf die besonderen Belange der ambulant operierenden medizinischen Einrichtungen eingegangen, insbesondere auf die Dokumentationspflichten nach IfSG § 23 und den länderspezifischen MedHygV. Ein weiterer Schwerpunkt stellt die MP-Aufbereitung dar. Unsere praxisnahen Referenten-/ innen geben Ihnen praktische Tipps zur Umsetzung der erforderlichen Hygienevorgaben im Praxisalltag.\NZielgruppe• Medizinische Fachangestellte (MFA)• Operationstechnischen Assistent*innen (OTA)• Hygienebeauftragte MFA• Qualitätsmanagement Beauftragte\NInhalte• Definitionen• Rechtliche Grundlagen IfSG / MPDG / MPBetreibV /TRBA 250 / TRGS 525 / DGKH-Leitlinie: „Bauliche und funktionelle Anforderungen an Eingriffsräume“• Aufbereitung kritischer Medizinprodukte, maschinelle Aufbereitung• Aufbereitung mit validierten Verfahren• Dokumentationspflichten Ambulantes Operieren IfSG § 23• Flächendesinfektion• Haut- & Händehygiene• Abfallentsorgung• Verschiedenes\NErfüllen Sie Anforderungen• Infektionsschutzgesetz (IfSG)• MPDG und MPBetreibV• RKI-Richtlinien & Empfehlungen• Gefahrstoffverordnung (GefStoffV §14)• Biologische Arbeitsstoffe nach Biostoffverordnung (BioStoffV §12, §14)• Länder-Hygieneverordnung (MedHygV)• Grundsätze der Prävention DGUV Vorschrift 1 §4
X-ALT-DESC;FMTTYPE=text/html:<p>In dieser Hygiene-Fortbildung wird neben den Maßnahmen der Basishygiene speziell auf die besonderen Belange der ambulant operierenden medizinischen Einrichtungen eingegangen, insbesondere auf die Dokumentationspflichten nach IfSG § 23 und den länderspezifischen MedHygV. Ein weiterer Schwerpunkt stellt die MP-Aufbereitung dar. Unsere praxisnahen Referenten-/ innen geben Ihnen praktische Tipps zur Umsetzung der erforderlichen Hygienevorgaben im Praxisalltag.</p><p>Zielgruppe<br>• Medizinische Fachangestellte (MFA)<br>• Operationstechnischen Assistent*innen (OTA)<br>• Hygienebeauftragte MFA<br>• Qualitätsmanagement Beauftragte</p><p>Inhalte<br>• Definitionen<br>• Rechtliche Grundlagen IfSG / MPDG / MPBetreibV /TRBA 250 / TRGS 525 / DGKH-Leitlinie: „Bauliche und funktionelle Anforderungen an Eingriffsräume“<br>• Aufbereitung kritischer Medizinprodukte, maschinelle Aufbereitung<br>• Aufbereitung mit validierten Verfahren<br>• Dokumentationspflichten Ambulantes Operieren IfSG § 23<br>• Flächendesinfektion<br>• Haut- &amp; Händehygiene<br>• Abfallentsorgung<br>• Verschiedenes</p><p>Erfüllen Sie Anforderungen<br>• Infektionsschutzgesetz (IfSG)<br>• MPDG und MPBetreibV<br>• RKI-Richtlinien &amp; Empfehlungen<br>• Gefahrstoffverordnung (GefStoffV §14)<br>• Biologische Arbeitsstoffe nach Biostoffverordnung (BioStoffV §12, §14)<br>• Länder-Hygieneverordnung (MedHygV)<br>• Grundsätze der Prävention DGUV Vorschrift 1 §4</p>
LAST-MODIFIED:20251120T160256Z
SEQUENCE:18847
X-ACCESS:1
X-HITS:227
X-COLOR:61bf1f
X-SHOW-END-TIME:1
END:VEVENT
BEGIN:VEVENT
DTSTART;TZID=Europe/Berlin:20260828T140000
DTEND;TZID=Europe/Berlin:20260828T160000
UID:1091D281-9ABC-4BB1-BC6F-4E632D98D1C1
SUMMARY:Onlineschulung Hygiene "Fachgebiet ambulantes Operieren"
CREATED:20260326T074849Z
DTSTAMP:20260326T074849Z
URL:https://www.schug-medical-service.de/seminare/onlineschulung-hygiene-fachgebiet-ambulantes-operieren-11
DESCRIPTION:In dieser Hygiene-Fortbildung wird neben den Maßnahmen der Basishygiene speziell auf die besonderen Belange der ambulant operierenden medizinischen Einrichtungen eingegangen, insbesondere auf die Dokumentationspflichten nach IfSG § 23 und den länderspezifischen MedHygV. Ein weiterer Schwerpunkt stellt die MP-Aufbereitung dar. Unsere praxisnahen Referenten-/ innen geben Ihnen praktische Tipps zur Umsetzung der erforderlichen Hygienevorgaben im Praxisalltag.\NZielgruppe• Medizinische Fachangestellte (MFA)• Operationstechnischen Assistent*innen (OTA)• Hygienebeauftragte MFA• Qualitätsmanagement Beauftragte\NInhalte• Definitionen• Rechtliche Grundlagen IfSG / MPDG / MPBetreibV /TRBA 250 / TRGS 525 / DGKH-Leitlinie: „Bauliche und funktionelle Anforderungen an Eingriffsräume“• Aufbereitung kritischer Medizinprodukte, maschinelle Aufbereitung• Aufbereitung mit validierten Verfahren• Dokumentationspflichten Ambulantes Operieren IfSG § 23• Flächendesinfektion• Haut- & Händehygiene• Abfallentsorgung• Verschiedenes\NErfüllen Sie Anforderungen• Infektionsschutzgesetz (IfSG)• MPDG und MPBetreibV• RKI-Richtlinien & Empfehlungen• Gefahrstoffverordnung (GefStoffV §14)• Biologische Arbeitsstoffe nach Biostoffverordnung (BioStoffV §12, §14)• Länder-Hygieneverordnung (MedHygV)• Grundsätze der Prävention DGUV Vorschrift 1 §4
X-ALT-DESC;FMTTYPE=text/html:<p>In dieser Hygiene-Fortbildung wird neben den Maßnahmen der Basishygiene speziell auf die besonderen Belange der ambulant operierenden medizinischen Einrichtungen eingegangen, insbesondere auf die Dokumentationspflichten nach IfSG § 23 und den länderspezifischen MedHygV. Ein weiterer Schwerpunkt stellt die MP-Aufbereitung dar. Unsere praxisnahen Referenten-/ innen geben Ihnen praktische Tipps zur Umsetzung der erforderlichen Hygienevorgaben im Praxisalltag.</p><p>Zielgruppe<br>• Medizinische Fachangestellte (MFA)<br>• Operationstechnischen Assistent*innen (OTA)<br>• Hygienebeauftragte MFA<br>• Qualitätsmanagement Beauftragte</p><p>Inhalte<br>• Definitionen<br>• Rechtliche Grundlagen IfSG / MPDG / MPBetreibV /TRBA 250 / TRGS 525 / DGKH-Leitlinie: „Bauliche und funktionelle Anforderungen an Eingriffsräume“<br>• Aufbereitung kritischer Medizinprodukte, maschinelle Aufbereitung<br>• Aufbereitung mit validierten Verfahren<br>• Dokumentationspflichten Ambulantes Operieren IfSG § 23<br>• Flächendesinfektion<br>• Haut- &amp; Händehygiene<br>• Abfallentsorgung<br>• Verschiedenes</p><p>Erfüllen Sie Anforderungen<br>• Infektionsschutzgesetz (IfSG)<br>• MPDG und MPBetreibV<br>• RKI-Richtlinien &amp; Empfehlungen<br>• Gefahrstoffverordnung (GefStoffV §14)<br>• Biologische Arbeitsstoffe nach Biostoffverordnung (BioStoffV §12, §14)<br>• Länder-Hygieneverordnung (MedHygV)<br>• Grundsätze der Prävention DGUV Vorschrift 1 §4</p>
LAST-MODIFIED:20260326T083345Z
SEQUENCE:2696
X-ACCESS:1
X-HITS:37
X-COLOR:61bf1f
X-SHOW-END-TIME:1
END:VEVENT
END:VCALENDAR